BEGIN:VCALENDAR
VERSION:2.0
PRODID:-//eventon.com NONSGML v1.0//EN
CALSCALE:GREGORIAN
METHOD:PUBLISH
BEGIN:VEVENT
UID:69e88764d3c73
DTSTAMP:20260422T083132Z
DTSTART:20260128
DTEND:20260129
LOCATION:
SUMMARY:Structured Learning Day 3
DESCRIPTION:Students study independently at home. What is a Structured Lear
 ning Day?\nhttps://www.reigate.ac.uk/events/structured-learning-day-3-2/
URL:https://www.reigate.ac.uk/events/structured-learning-day-3-2/
END:VEVENT
END:VCALENDAR