BEGIN:VCALENDAR
VERSION:2.0
PRODID:-//eventon.com NONSGML v1.0//EN
CALSCALE:GREGORIAN
METHOD:PUBLISH
BEGIN:VEVENT
UID:69e5e271be4cc
DTSTAMP:20260420T082313Z
DTSTART:20260706
DTEND:20260707
LOCATION:
SUMMARY:Lower Sixth Work Experience Week
DESCRIPTION:All Lower Sixth students are expected to complete work experien
 ce this week\,  if they haven’t already done so.\nhttps://www.reigate.ac.
 uk/events/lower-sixth-work-experience-week/
URL:https://www.reigate.ac.uk/events/lower-sixth-work-experience-week/
END:VEVENT
END:VCALENDAR