BEGIN:VCALENDAR
VERSION:2.0
PRODID:-//eventon.com NONSGML v1.0//EN
CALSCALE:GREGORIAN
METHOD:PUBLISH
BEGIN:VEVENT
UID:69e9ef0d56957
DTSTAMP:20260423T100605Z
DTSTART:20250827
DTEND:20250828
LOCATION:
SUMMARY:Choices Day
DESCRIPTION:\nhttps://www.reigate.ac.uk/events/choices-day-2/
URL:https://www.reigate.ac.uk/events/choices-day-2/
END:VEVENT
END:VCALENDAR