BEGIN:VCALENDAR
VERSION:2.0
PRODID:-//eventon.com NONSGML v1.0//EN
CALSCALE:GREGORIAN
METHOD:PUBLISH
BEGIN:VEVENT
UID:69e88a883f532
DTSTAMP:20260422T084456Z
DTSTART:20250821
DTEND:20250822
LOCATION:
SUMMARY:GCSE and BTEC Level 2 Results Day
DESCRIPTION:\nhttps://www.reigate.ac.uk/events/gcse-and-btec-level-2-result
 s-day/
URL:https://www.reigate.ac.uk/events/gcse-and-btec-level-2-results-day/
END:VEVENT
END:VCALENDAR