BEGIN:VCALENDAR
VERSION:2.0
PRODID:-//eventon.com NONSGML v1.0//EN
CALSCALE:GREGORIAN
METHOD:PUBLISH
BEGIN:VEVENT
UID:69e9dbc971e29
DTSTAMP:20260423T084353Z
DTSTART:20250905
DTEND:20250906
LOCATION:
SUMMARY:Lower Sixth Induction Day
DESCRIPTION:\nhttps://www.reigate.ac.uk/events/lower-sixth-induction-day-2/
URL:https://www.reigate.ac.uk/events/lower-sixth-induction-day-2/
END:VEVENT
END:VCALENDAR