BEGIN:VCALENDAR
VERSION:2.0
PRODID:-//eventon.com NONSGML v1.0//EN
CALSCALE:GREGORIAN
METHOD:PUBLISH
BEGIN:VEVENT
UID:69e76cf366ac0
DTSTAMP:20260421T122627Z
DTSTART:20250109
DTEND:20250110
LOCATION:
SUMMARY:Performing Arts - Sussex Playwright's Workshop\,  at College
DESCRIPTION:\nhttps://www.reigate.ac.uk/events/performing-arts-sussex-playw
 rights-workshop-at-college/
URL:https://www.reigate.ac.uk/events/performing-arts-sussex-playwrights-workshop-at-college/
END:VEVENT
END:VCALENDAR